BEGIN:VCALENDAR
VERSION:2.0
PRODID:-//Squarespace Inc/Squarespace 6//v6//EN
BEGIN:VEVENT
UID:5b42db49aa4a99250c278904@squarespace.com
DTSTAMP:20180719T001314Z
DTSTART:20180728T071500Z
DTEND:20180728T143000Z
SUMMARY:Practical Essentials Masterclass
GEO:-37.79649;144.942338
LOCATION:Public Record Office Victoria\, 99 Shiel Street\, North Melbourne\
 , VIC\, 3051\, Australia
END:VEVENT
END:VCALENDAR
