BEGIN:VCALENDAR
VERSION:2.0
PRODID:-//Squarespace Inc/Squarespace 6//v6//EN
BEGIN:VEVENT
UID:5af2491970a6ade68baa8984@squarespace.com
DTSTAMP:20180509T011117Z
DTSTART:20180608T120000Z
DTEND:20180608T140000Z
SUMMARY:Digital Storytelling Workshop
GEO:-37.8202;144.967895
LOCATION:The Channel\, 100 Saint Kilda Road\, Southbank\, VIC\, 3006\, Aust
 ralia
END:VEVENT
END:VCALENDAR
