BEGIN:VCALENDAR
VERSION:2.0
PRODID:-//Squarespace Inc/Squarespace 6//v6//EN
BEGIN:VEVENT
UID:5b04aad6352f53cc9e158f4a@squarespace.com
DTSTAMP:20180524T064523Z
DTSTART:20180614T160000Z
DTEND:20180614T180000Z
SUMMARY:Speed Dating History Style
GEO:-37.80073;144.976823
LOCATION:The Standard Hotel\, 293 Fitzroy Street\, Fitzroy\, VIC\, 3065\, A
 ustralia
END:VEVENT
END:VCALENDAR
