BEGIN:VCALENDAR
VERSION:2.0
PRODID:-//Squarespace Inc/Squarespace 6//v6//EN
BEGIN:VEVENT
UID:5ab87e7eaa4a99745739aa27@squarespace.com
DTSTAMP:20180326T062030Z
DTSTART:20180412T161500Z
DTEND:20180412T174500Z
SUMMARY:How to be a consulting historian
GEO:-37.819545;144.947224
LOCATION:The Cinema Room @ The Hub at Docklands\, 80 Harbour Esplanade\, Do
 cklands\, VIC\, 3008\, Australia
END:VEVENT
END:VCALENDAR
