BEGIN:VCALENDAR
VERSION:2.0
PRODID:-//Squarespace Inc/Squarespace 6//v6//EN
BEGIN:VEVENT
UID:5a97411eec212d796ca5044f@squarespace.com
DTSTAMP:20180304T215940Z
DTSTART:20180315T170000Z
DTEND:20180315T190000Z
SUMMARY:Site Visit - University of Melbourne Germaine Greer Archive
GEO:-37.770033;144.950223
LOCATION:University of Melbourne Archives\, 120-122 Dawson Street\, Brunswi
 ck\, VIC\, 3056\, Australia
END:VEVENT
END:VCALENDAR
