BEGIN:VCALENDAR
VERSION:2.0
PRODID:-//Squarespace Inc/Squarespace 6//v6//EN
BEGIN:VEVENT
UID:5a7ecf96c830253b86e497d0@squarespace.com
DTSTAMP:20180926T094856Z
DTSTART:20180201T110000Z
DTEND:20181222T120000Z
SUMMARY:2018 Calendar of Events
END:VEVENT
END:VCALENDAR
