BEGIN:VCALENDAR
VERSION:2.0
PRODID:-//Squarespace Inc/Squarespace 6//v6//EN
BEGIN:VEVENT
UID:5bf74e95575d1f90eb6848d6@squarespace.com
DTSTAMP:20181123T010429Z
DTSTART:20181202T120000Z
DTEND:20181202T160000Z
SUMMARY:End of Year Picnic
GEO:-37.784053;144.985296
LOCATION:Mark St Hall\, 1 Mark Street\, Fitzroy North\, VIC\, 3068\, Austra
 lia
END:VEVENT
END:VCALENDAR
