BEGIN:VCALENDAR
VERSION:2.0
PRODID:-//Squarespace Inc/Squarespace 6//v6//EN
BEGIN:VEVENT
UID:5bc861d6c83025d47bebda15@squarespace.com
DTSTAMP:20181018T104640Z
DTSTART:20181108T170000Z
DTEND:20181108T200000Z
SUMMARY:Members' Work 
GEO:-37.798667;144.965273
LOCATION:Multipurpose Room 2\, Kathleen Syme Library and Community Centre\, 
 251 Faraday Street\, Carlton\, VIC\, 3053\, Australia
END:VEVENT
END:VCALENDAR
