BEGIN:VCALENDAR
VERSION:2.0
PRODID:-//Squarespace Inc/Squarespace 6//v6//EN
BEGIN:VEVENT
UID:5b42dc412b6a28b390cdb1fd@squarespace.com
DTSTAMP:20180709T035552Z
DTSTART:20181014T130000Z
DTEND:20181014T143000Z
SUMMARY:History Slam
GEO:40.720756;-74.000761
LOCATION:Melbourne Museum
END:VEVENT
END:VCALENDAR
