BEGIN:VCALENDAR
VERSION:2.0
PRODID:-//Squarespace Inc/Squarespace 6//v6//EN
BEGIN:VEVENT
UID:5966c1f35016e11be568aac9@squarespace.com
DTSTAMP:20170713T010140Z
DTSTART:20170811T163000Z
DTEND:20170811T203000Z
SUMMARY:2017 Annual Dinner & AGM
GEO:-37.7887;144.972271
LOCATION:The Kent Hotel\, 370 Rathdowne Street\, Carlton North\, VIC\, 3054
 \, Australia
END:VEVENT
END:VCALENDAR
