BEGIN:VCALENDAR
VERSION:2.0
PRODID:-//Squarespace Inc/Squarespace 6//v6//EN
BEGIN:VEVENT
UID:5920cc1dbe659438f08399db@squarespace.com
DTSTAMP:20170602T005422Z
DTSTART:20170622T160000Z
DTEND:20170622T180000Z
SUMMARY:Speed Dating: History Style
GEO:-37.80073;144.976823
LOCATION:The Standard Hotel - Private Dining Room\, 293 Fitzroy Street\, Fi
 tzroy\, VIC\, 3065\, Australia
END:VEVENT
END:VCALENDAR
