BEGIN:VCALENDAR
VERSION:2.0
PRODID:-//Squarespace Inc/Squarespace 6//v6//EN
BEGIN:VEVENT
UID:58abe50e579fb39fe1acfdd3@squarespace.com
DTSTAMP:20170226T001817Z
DTSTART:20170429T070000Z
DTEND:20170430T150000Z
SUMMARY:ACMI Digital Storytelling Workshop
GEO:-37.817979;144.969058
LOCATION:Australian Centre for the Moving Image\, Federation Square\, Melbo
 urne\, Australia
END:VEVENT
END:VCALENDAR
