BEGIN:VCALENDAR
VERSION:2.0
PRODID:-//Squarespace Inc/Squarespace 6//v6//EN
BEGIN:VEVENT
UID:58ce496ff7e0ab911f700b5b@squarespace.com
DTSTAMP:20170321T073637Z
DTSTART:20170503T123000Z
DTEND:20170503T133000Z
SUMMARY:PROVisualiser Presentation 
GEO:-37.800667;144.974343
LOCATION:Melbourne Museum\, Nicholson Street\, Carlton\, VIC\, 3053\, Austr
 alia
END:VEVENT
END:VCALENDAR
