BEGIN:VCALENDAR
VERSION:2.0
PRODID:-//Squarespace Inc/Squarespace 6//v6//EN
BEGIN:VEVENT
UID:58b219ed37c5814e3bd3a9d1@squarespace.com
DTSTAMP:20171026T005616Z
DTSTART:20170216T000000Z
DTEND:20171221T000000Z
SUMMARY:2017 Calendar of Events
GEO:-37.471308;144.785153
LOCATION:Victoria\, Australia
END:VEVENT
END:VCALENDAR
