BEGIN:VCALENDAR
VERSION:2.0
PRODID:-//Squarespace Inc/Squarespace 6//v6//EN
BEGIN:VEVENT
UID:584e793cf7e0ab56e96c414e@squarespace.com
DTSTAMP:20170125T012541Z
DTSTART:20170216T170000Z
DTEND:20170216T183000Z
SUMMARY:Site Visit: National Herbarium of Victoria 
GEO:-37.831045;144.976617
LOCATION:National Herbarium of Victoria\, Cnr Dallas Brooks Dr and Birdwood 
 Avenue\, Melbourne\, VIC\, 3004\, Australia
END:VEVENT
END:VCALENDAR
