BEGIN:VCALENDAR
VERSION:2.0
PRODID:-//Squarespace Inc/Squarespace 6//v6//EN
BEGIN:VEVENT
UID:59f7f439d6839a0d1d73e88d@squarespace.com
DTSTAMP:20171130T220137Z
DTSTART:20171203T120000Z
DTEND:20171203T150000Z
SUMMARY:End of Year Picnic 2017 - **UPDATED VENUE** Jika Jika Community Cen
 tre
GEO:-37.779422;144.999564
LOCATION:Jika Jika Community Centre\, Corner of Plant and Union Streets\, N
 orthcote
END:VEVENT
END:VCALENDAR
