BEGIN:VCALENDAR
VERSION:2.0
PRODID:-//Squarespace Inc/Squarespace 6//v6//EN
BEGIN:VEVENT
UID:5a38a87b085229f6d9abc540@squarespace.com
DTSTAMP:20180120T031330Z
DTSTART:20180208T170000Z
DTEND:20180208T193000Z
SUMMARY:Site Visit - Melbourne Museum\, Inside Out Exhibition
GEO:-37.803206;144.97167
LOCATION:Melbourne Museum\, 11 Nicholson Street\, Carlton
END:VEVENT
END:VCALENDAR
