BEGIN:VCALENDAR
VERSION:2.0
PRODID:-//Squarespace Inc/Squarespace 6//v6//EN
BEGIN:VEVENT
UID:59ed1f3ab7411cd96fcbcdf6@squarespace.com
DTSTAMP:20171031T042145Z
DTSTART:20171120T170000Z
DTEND:20171120T200000Z
SUMMARY:Members Work Film Festival - Register now! 
GEO:-37.780418;144.986623
LOCATION:Long Play\, 318 Saint Georges Road\, Fitzroy North\, VIC\, 3068\, 
 Australia
END:VEVENT
END:VCALENDAR
