BEGIN:VCALENDAR
VERSION:2.0
PRODID:-//Squarespace Inc/Squarespace 6//v6//EN
BEGIN:VEVENT
UID:59e046a537c581663619c6f8@squarespace.com
DTSTAMP:20171015T114517Z
DTSTART:20171015T050000Z
DTEND:20171022T150000Z
SUMMARY:History Week 2017
GEO:-37.819009;144.962255
LOCATION:Flinders Street\, Melbourne\, VIC\, Australia
END:VEVENT
END:VCALENDAR
