BEGIN:VCALENDAR
VERSION:2.0
PRODID:-//Squarespace Inc/Squarespace 6//v6//EN
BEGIN:VEVENT
UID:57e98690d2b857ff0b38db46@squarespace.com
DTSTAMP:20161028T221049Z
DTSTART:20161108T173000Z
DTEND:20161108T183000Z
SUMMARY:Members' Current Work
GEO:-37.797502;144.967241
LOCATION:Jimmy Watson's\, 333 Lygon Street\, Carlton\, VIC\, 3053\, Austral
 ia
END:VEVENT
END:VCALENDAR
