BEGIN:VCALENDAR
VERSION:2.0
PRODID:-//Squarespace Inc/Squarespace 6//v6//EN
BEGIN:VEVENT
UID:566a08a7a12f449a6eaee811@squarespace.com
DTSTAMP:20160222T072136Z
DTSTART:20160819T070000Z
DTEND:20160820T150000Z
SUMMARY:Working History
GEO:-37.80074;144.961357
LOCATION:Graduate House\, 216-220 Leicester Street\, Carlton\, VIC\, 3053\, 
 Australia
END:VEVENT
END:VCALENDAR
