BEGIN:VCALENDAR
VERSION:2.0
PRODID:-//Squarespace Inc/Squarespace 6//v6//EN
BEGIN:VEVENT
UID:57859e51893fc0672b7063b5@squarespace.com
DTSTAMP:20160713T020206Z
DTSTART:20160819T163000Z
DTEND:20160822T190000Z
SUMMARY:2016 Annual Dinner and AGM
GEO:-37.801539;144.953791
LOCATION:Metropolitan Hotel\, 36 Courtney Street\, North Melbourne\, VIC\, 
 3051\, Australia
END:VEVENT
END:VCALENDAR
