BEGIN:VCALENDAR
VERSION:2.0
PRODID:-//Squarespace Inc/Squarespace 6//v6//EN
BEGIN:VEVENT
UID:56dcb1532fe1312eff2c2762@squarespace.com
DTSTAMP:20160330T233051Z
DTSTART:20160405T160000Z
DTEND:20160405T173000Z
SUMMARY:Historically Speaking
GEO:-37.834722;144.960391
LOCATION:Emerald Hill Library & Heritage Centre\, 195 Bank Street\, South M
 elbourne\, VIC\, 3205\, Australia
END:VEVENT
END:VCALENDAR
