BEGIN:VCALENDAR
VERSION:2.0
PRODID:-//Squarespace Inc/Squarespace 6//v6//EN
BEGIN:VEVENT
UID:56e7e4e8c6fc0816eb92c602@squarespace.com
DTSTAMP:20160523T025500Z
DTSTART:20160607T160000Z
DTEND:20160607T173000Z
SUMMARY:Historically Speaking
GEO:-37.834722;144.960391
LOCATION:Emerald Hill Library and Heritage Centre\, 195 Bank Street\, South 
 Melbourne\, VIC\, 3205\, Australia
END:VEVENT
END:VCALENDAR
