BEGIN:VCALENDAR
VERSION:2.0
PRODID:-//Squarespace Inc/Squarespace 6//v6//EN
BEGIN:VEVENT
UID:56e7f3ef859fd0797f8e5ef8@squarespace.com
DTSTAMP:20160906T080104Z
DTSTART:20160906T160000Z
DTEND:20160906T173000Z
SUMMARY:Essentials for the Professional Historian
GEO:-37.834722;144.960391
LOCATION:Emerald Hill Library and Heritage Centre\, 195 Bank Street\, South 
 Melbourne\, VIC\, 3205\, Australia
END:VEVENT
END:VCALENDAR
