BEGIN:VCALENDAR
VERSION:2.0
PRODID:-//Squarespace Inc/Squarespace 6//v6//EN
BEGIN:VEVENT
UID:56e7dcda3c44d8db592a0014@squarespace.com
DTSTAMP:20160427T043245Z
DTSTART:20160507T090000Z
DTEND:20160507T100000Z
SUMMARY:Historically Speaking
GEO:-38.185744;145.166329
LOCATION:Mulberry Hill\, 385 Golf Links Road\, Langwarrin South\, VIC\, 391
 1\, Australia
END:VEVENT
END:VCALENDAR
