BEGIN:VCALENDAR
VERSION:2.0
PRODID:-//Squarespace Inc/Squarespace 6//v6//EN
BEGIN:VEVENT
UID:56e7e9dcb654f9ada9695c83@squarespace.com
DTSTAMP:20160713T020403Z
DTSTART:20160719T151500Z
DTEND:20160719T170000Z
SUMMARY:Emerging Historians 2016
GEO:-37.810712;144.956617
LOCATION:Royal Historical Society of Victoria\, 239 A'Beckett Street\, Melb
 ourne\, VIC\, 3000\, Australia
END:VEVENT
END:VCALENDAR
