BEGIN:VCALENDAR
VERSION:2.0
PRODID:-//Squarespace Inc/Squarespace 6//v6//EN
BEGIN:VEVENT
UID:56a6a83e8b38d4980e2cc095@squarespace.com
DTSTAMP:20160208T063241Z
DTSTART:20160221T130000Z
DTEND:20160221T140000Z
SUMMARY:Well-Behaved Women Seldom Make History
GEO:-37.574625;143.866688
LOCATION:The Gold Museum\, Bradshaw St\, Golden Point\, VIC\, 3350\, Austra
 lia
END:VEVENT
END:VCALENDAR
