BEGIN:VCALENDAR
VERSION:2.0
PRODID:-//Squarespace Inc/Squarespace 6//v6//EN
BEGIN:VEVENT
UID:56772331841abad6a8551b56@squarespace.com
DTSTAMP:20160927T053727Z
DTSTART:20160221T090000Z
DTEND:20161231T100000Z
SUMMARY:2016 Events Calendar
END:VEVENT
END:VCALENDAR
