BEGIN:VCALENDAR
VERSION:2.0
PRODID:-//Squarespace Inc/Squarespace 6//v6//EN
BEGIN:VEVENT
UID:56c7ae58e32140b69322657e@squarespace.com
DTSTAMP:20160226T221612Z
DTSTART:20160301T170000Z
DTEND:20160301T183000Z
SUMMARY:Historically Speaking
GEO:-37.822521;144.951234
LOCATION:The Mission to Seafarers\, 717 Flinders St\, Docklands\, Victoria\
 , Australia
END:VEVENT
END:VCALENDAR
