BEGIN:VCALENDAR
VERSION:2.0
PRODID:-//Squarespace Inc/Squarespace 6//v6//EN
BEGIN:VEVENT
UID:57e98f3cb3db2bea58e8bc94@squarespace.com
DTSTAMP:20161129T221231Z
DTSTART:20161204T120000Z
DTEND:20161204T160000Z
SUMMARY:End of Year Picnic - Footscray Park
GEO:-37.792839;144.905133
LOCATION:Footscray Park\, Australia
END:VEVENT
END:VCALENDAR
