BEGIN:VCALENDAR
VERSION:2.0
PRODID:-//Squarespace Inc/Squarespace 6//v6//EN
BEGIN:VEVENT
UID:55b02e8de4b09dafade5a3cd@squarespace.com
DTSTAMP:20150723T001124Z
DTSTART:20150828T163000Z
DTEND:20150828T193000Z
SUMMARY:2015 Annual Dinner and AGM
GEO:-37.790516;144.977263
LOCATION:North Fitzroy Star\, 32-36 St Georges Rd S\, Fitzroy North\, VIC\, 
 3068\, Australia
END:VEVENT
END:VCALENDAR
