BEGIN:VCALENDAR
VERSION:2.0
PRODID:-//Squarespace Inc/Squarespace 6//v6//EN
BEGIN:VEVENT
UID:552e56d3e4b0d43bb9fe6068@squarespace.com
DTSTAMP:20150709T012600Z
DTSTART:20150721T151500Z
DTEND:20150721T173000Z
SUMMARY:Emerging Historians 2015 with the Royal Historical Society of Victo
 ria
GEO:-37.810533;144.956475
LOCATION:Royal Historical Society of Victoria\, 239 A'Beckett St\, Melbourn
 e\, VIC\, 3000\, Australia
END:VEVENT
END:VCALENDAR
