BEGIN:VCALENDAR
VERSION:2.0
PRODID:-//Squarespace Inc/Squarespace 6//v6//EN
BEGIN:VEVENT
UID:5530eb76e4b059bedf74a3d3@squarespace.com
DTSTAMP:20151103T115446Z
DTSTART:20151110T173000Z
DTEND:20151110T190000Z
SUMMARY:Historically Speaking
GEO:-37.810533;144.956475
LOCATION:Royal Historical Society\, 239 A'Beckett Street\, Melbourne\, VIC\
 , 3000\, Australia
END:VEVENT
END:VCALENDAR
