BEGIN:VCALENDAR
VERSION:2.0
PRODID:-//Squarespace Inc/Squarespace 6//v6//EN
BEGIN:VEVENT
UID:55fa1e4be4b0af27e349c358@squarespace.com
DTSTAMP:20151020T055650Z
DTSTART:20151206T110000Z
DTEND:20151206T130000Z
SUMMARY:Christmas Picnic 2015: Save the Date
GEO:-37.801012;144.972417
LOCATION:Carlton Street\, Carlton\, VIC\, 3053\, Australia
END:VEVENT
END:VCALENDAR
