BEGIN:VCALENDAR
VERSION:2.0
PRODID:-//Squarespace Inc/Squarespace 6//v6//EN
BEGIN:VEVENT
UID:5625d4eae4b0701b9612ef70@squarespace.com
DTSTAMP:20151028T212753Z
DTSTART:20151114T083000Z
DTEND:20151114T150000Z
SUMMARY:Masterclass: Demystifying Social Media
GEO:-37.796625;144.942125
LOCATION:99 Shiel Street\, North Melbourne\, VIC\, 3051\, Australia
END:VEVENT
END:VCALENDAR
