BEGIN:VCALENDAR
VERSION:2.0
PRODID:-//Squarespace Inc/Squarespace 6//v6//EN
BEGIN:VEVENT
UID:552e5754e4b006558d7f98a0@squarespace.com
DTSTAMP:20190925T080202Z
DTSTART:20190801T070000Z
DTEND:20190930T203000Z
SUMMARY:What's On in History
END:VEVENT
END:VCALENDAR
